BEGIN:VCALENDAR
VERSION:2.0
PRODID:-//Eventin//Event Calendar//EN
CALSCALE:GREGORIAN
METHOD:PUBLISH
BEGIN:VEVENT
UID:e58a613f34aeac2ca640eb0e9c21d2da@nb88ifc.org
SUMMARY:NB88 Family Reunion – Hawaiian Cruise (July 2027)
DESCRIPTION:Get ready for an unforgettable experience as the NB88 family co
 mes together for a once-in-a-lifetime Hawaiian cruise in July 2027. This i
 s more than a vacation—it’s a powerful time of connection\, restoration
 \, and fellowship surrounded by the beauty of God’s creation.\nSet sail f
 rom Honolulu aboard a world-class cruise and journey through the breathtaki
 ng islands of Hawaii. From the lush landscapes of Maui to the volcanic wond
 ers of the Big Island\, and the serene beauty of Kauai\, every destination 
 offers a unique opportunity to explore\, reflect\, and grow.\nThis 7-night
  cruise experience includes stops across multiple islands\, allowing you t
 o enjoy beaches\, mountains\, waterfalls\, and unforgettable cultural exper
 iences along the way .\nOnboard\, you’ll enjoy:• Complimentary meals i
 ncluding breakfast\, lunch\, dinner\, and snacks• Family-friendly activit
 ies\, shows\, and entertainment• Pools\, lounges\, and relaxation areas
 • Opportunities for fellowship and connection with the NB88 family\nBut b
 eyond the destination\, this reunion is about unity and spiritual renewal.
 \nTogether\, we will:• Strengthen relationships within the NB88 family•
  Build lasting memories across generations• Experience moments of prayer\
 , encouragement\, and togetherness• Reconnect in a peaceful\, uplifting e
 nvironment\nWhether you come to relax\, explore\, or grow spiritually\, thi
 s journey offers something for everyone.\n🌺 Imagine watching the sunrise
  over the ocean…🌺 Walking along tropical shores with family…🌺 Sha
 ring laughter\, stories\, and meaningful moments together…\nThis is your 
 invitation to be part of something special.\nNB88 Family Reunion – Hawaii
 an CruiseJuly 2027\nCome ready to experience joy\, connection\, and a deepe
 r sense of family.
LOCATION:Pride of America Cruise
DTSTAMP:20260423T165228Z
DTSTART:20270711T120000Z
DTEND:20270718T210000Z
END:VEVENT
END:VCALENDAR
