BEGIN:VCALENDAR
VERSION:2.0
PRODID:-//Eventin//Event Calendar//EN
CALSCALE:GREGORIAN
METHOD:PUBLISH
BEGIN:VEVENT
UID:cfa8f542793bfdbc3881005e6121e164@nb88ifc.org
SUMMARY:NB88 Asia Summit – Malaysia 🌏
DESCRIPTION:NB88 International Free Church is preparing for a powerful inte
 rnational gathering in Asia\, bringing together leaders and believers from 
 across multiple nations.\nThis summit will take place in Malaysia during No
 vember 2026\, serving as a time of unity\, prayer\, and spiritual strengthe
 ning as the Gospel continues to expand globally.\nConfirmed nations across 
 Asia and beyond are expected to be represented\, with additional nations pe
 nding approval.\nThis gathering will focus on:• Strengthening identity in
  Christ• Advancing the global mission of the Gospel• Building unity acr
 oss nations and cultures\nMore details\, including exact dates\, location\,
  and registration information\, will be announced soon.\nWe encourage every
 one to remain prayerful and expectant as God continues to expand the vision
  of NB88 worldwide.
LOCATION:Malaysia 
DTSTAMP:20260423T165225Z
DTSTART:20261106T130000Z
DTEND:20261108T220000Z
END:VEVENT
END:VCALENDAR
