BEGIN:VCALENDAR
VERSION:2.0
PRODID:-//Eventin//Event Calendar//EN
CALSCALE:GREGORIAN
METHOD:PUBLISH
BEGIN:VEVENT
UID:552dd120be5a1bb9d79d505aea334737@nb88ifc.org
SUMMARY:Footsteps of Paul – 14 Day Tour & Cruise
DESCRIPTION:Dates: August 22 – September 4\, 2026Location: Greece & Italy
 \nStep into the pages of the Bible and experience a powerful journey throug
 h the lands where the Apostle Paul lived\, preached\, and transformed lives
 .\nThis unforgettable 14-day tour and cruise will take you through some of 
 the most significant locations in early Christianity. From ancient cities t
 o breathtaking coastal landscapes\, you will walk through history while dee
 pening your faith and understanding of God’s Word.\nTravel through renown
 ed biblical destinations including Athens\, Thessaloniki\, Philippi\, Corin
 th\, Ephesus\, Patmos\, Santorini\, and Vatican City. Each stop offers a un
 ique opportunity to connect Scripture with real places\, bringing the Bible
  to life in a deeper and more meaningful way.\nEnjoy a beautiful cruise thr
 ough the Greek Islands\, guided tours of historic landmarks\, and time to r
 eflect\, grow spiritually\, and build lasting fellowship with others on the
  journey.\n✨ What You’ll Experience:• Walk where the Apostle Paul wal
 ked• Visit historic biblical cities and early Christian sites• Explore 
 ancient ruins and sacred landmarks• Cruise the stunning Greek Islands• 
 Tour the Vatican\, St. Peter’s Basilica\, and the Coliseum• Experience 
 Scripture in a powerful\, life-changing way\n🙏 Faith Experience:We will 
 saturate the area in prayer.Your identity in Christ will be strengthened.\n
 This journey is more than travel—it is an opportunity to renew your faith
 \, gain deeper understanding\, and encounter God in a powerful way through 
 the very places where the Gospel was first spread.\n💲 Cost: $5\,319 per 
 person (double occupancy)Includes roundtrip airfare from JFK\n📌 Reservat
 ion Details:• $500 deposit required to secure your spot• Reservation De
 adline: March 19\, 2026• Final Payment Due: May 22\, 2026\n📞 Contact f
 or More Information:Zoe Reidzoereid@mhmin.org303-770-0400 ext. 237\n👉 Jo
 in us for a life-changing journey through the lands of the Bible.
LOCATION:Celestyal Cruise
DTSTAMP:20260423T165229Z
DTSTART:20260822T120000Z
DTEND:20260904T210000Z
END:VEVENT
END:VCALENDAR
