BEGIN:VCALENDAR
VERSION:2.0
PRODID:-//Eventin//Event Calendar//EN
CALSCALE:GREGORIAN
METHOD:PUBLISH
BEGIN:VEVENT
UID:f17c909d413009e4aa2811846590cc95@nb88ifc.org
SUMMARY:Baptize America – A Nationwide Day of Baptism (2026)
DESCRIPTION:Join churches across the United States for a powerful day of un
 ity\, faith\, and transformation as we come together to share the Gospel an
 d baptize believers in communities nationwide.\nOn May 24\, 2026\, churches
 \, ministries\, and believers from every background will unite with one mis
 sion — to proclaim the message of Jesus Christ and celebrate new life thr
 ough baptism.\nFrom local churches to outdoor gatherings\, baptisms will ta
 ke place in a variety of settings\, including churches\, rivers\, lakes\, p
 arks\, beaches\, and community events. This movement is an opportunity for 
 churches to step beyond their walls and reach people where they are\, creat
 ing moments of faith that impact lives forever.\nThis is more than an event
  — it is a nationwide movement of believers coming together in unity\, re
 flecting the diversity and strength of the body of Christ across America.\n
 Church leaders and ministries are invited to host a baptism event in their 
 local community.\nWhether you are a small congregation or a large ministry\
 , your participation helps spread the Gospel and bring hope to those seekin
 g a new beginning.\n👉 Register your church to host a baptism event:bapti
 ze.org/host\nLet’s come together to fill America with the Gospel and cele
 brate lives being transformed through baptism.\nChurches united. Lives tran
 sformed. A nation awakened.
LOCATION:Online
DTSTAMP:20260423T165228Z
DTSTART:20260524T120000Z
DTEND:20260524T210000Z
END:VEVENT
END:VCALENDAR
