BEGIN:VCALENDAR
VERSION:2.0
PRODID:-//Eventin//Event Calendar//EN
CALSCALE:GREGORIAN
METHOD:PUBLISH
BEGIN:VEVENT
UID:d549b84ac122aff60578e9d308af8321@nb88ifc.org
SUMMARY:NB88 9th Annual 24-Hour Global Prayer
DESCRIPTION:NB88 9th Annual 24-Hour Global Prayer\nDate: April 4–5\, 202
 6Time: Begins at 12:00 AM (Eastern Time – New York)\nJoin NB88 Internati
 onal Free Church for our 9th Annual 24-Hour Global Prayer — a sacred time
  where members across regions and nations come together in unity before the
  Lord.\nFor 24 hours\, participants will take part in prayer\, worship\, te
 aching\, testimony\, and exhortation\, covering families\, leadership\, com
 munities\, and nations around the world.\nThis gathering is a powerful expr
 ession of unity\, as we stand together in covenant\, lifting one voice acro
 ss time zones and continents.\nParticipation Details:\n• Each segment is 
 15 minutes• All time slots are scheduled in Eastern Time (ET)• Particip
 ants may present live or submit a pre-recorded segment• Multiple time slo
 ts may be selected (separate submissions required)\nConfirmation Requiremen
 t:\nAll participants must confirm their availability 48 hours prior to thei
 r assigned time slot.\nIf confirmation is not received\, the time slot may 
 be reassigned to ensure the smooth flow of the 24-Hour Prayer.\nRegister to
  Participate:\nClick Here to Sign Up\nWe invite you to take your place in t
 his global watch as we come together in prayer\, purpose\, and unity.
LOCATION:Online
DTSTAMP:20260423T185857Z
DTSTART:20260404T040000Z
DTEND:20260405T040000Z
END:VEVENT
END:VCALENDAR
